BEGIN:VCALENDAR
VERSION:2.0
PRODID:-//162.241.216.137//NONSGML kigkonsult.se iCalcreator 2.26.9//
CALSCALE:GREGORIAN
METHOD:PUBLISH
X-FROM-URL:https://utahvdc.org/wpress
X-WR-TIMEZONE:America/Denver
BEGIN:VTIMEZONE
TZID:America/Denver
X-LIC-LOCATION:America/Denver
BEGIN:STANDARD
DTSTART:20251102T020000
TZOFFSETFROM:-0600
TZOFFSETTO:-0700
RDATE:20261101T020000
TZNAME:MST
END:STANDARD
BEGIN:DAYLIGHT
DTSTART:20260308T020000
TZOFFSETFROM:-0700
TZOFFSETTO:-0600
RDATE:20270314T020000
TZNAME:MDT
END:DAYLIGHT
END:VTIMEZONE
BEGIN:VEVENT
UID:ai1ec-327@utahvdc.org/wpress
DTSTAMP:20260423T124332Z
CATEGORIES:
CONTACT:Cathy Ricci
DESCRIPTION:
DTSTART;TZID=America/Denver:20230504T083000
DTEND;TZID=America/Denver:20230504T100000
LOCATION:Good Shepherd Prayer Chapel @ Sandy\, Utah\, USA
RRULE:FREQ=MONTHLY;BYDAY=1TH
SEQUENCE:0
SUMMARY:VDC Prayer
URL:https://utahvdc.org/wpress/?ai1ec_event=vdc-prayer
X-COST-TYPE:free
END:VEVENT
BEGIN:VEVENT
UID:ai1ec-431@utahvdc.org/wpress
DTSTAMP:20260423T124332Z
CATEGORIES:
CONTACT:
DESCRIPTION:<div class='x1e56ztr'><span class='x193iq5w xeuugli x13faqbe x1
 vvkbs x1xmvt09 x1f6kntn xvq8zen xo1l8bm xzsf02u'><b>ULTREYA</b></span></di
 v>\n<div class='x1e56ztr'><span class='x193iq5w xeuugli x13faqbe x1vvkbs x
 1xmvt09 x1f6kntn xvq8zen xo1l8bm xzsf02u'><b>Via de Cristo</b></span></div
 >\n<div class='x1e56ztr'><span class='x193iq5w xeuugli x13faqbe x1vvkbs x1
 xmvt09 x1f6kntn xvq8zen xo1l8bm xzsf02u'><b>SUNDAY AUGUST 20\, 2023</b></s
 pan></div>\n<div class='x1e56ztr'><span class='x193iq5w xeuugli x13faqbe x
 1vvkbs x1xmvt09 x1f6kntn xvq8zen xo1l8bm xzsf02u'><b>3:00 PM until 5:00 PM
 </b></span></div>\n<div class='x1e56ztr'><span class='x193iq5w xeuugli x13
 faqbe x1vvkbs x1xmvt09 x1f6kntn xvq8zen xo1l8bm xzsf02u'>(Open meeting of 
 the Secretariat at 2:00 PM)</span></div>\n<div class='x1e56ztr'><span clas
 s='x193iq5w xeuugli x13faqbe x1vvkbs x1xmvt09 x1f6kntn xvq8zen xo1l8bm xzs
 f02u'><b>OUR SAVIOR’S LUTHERAN CHURCH\, ROY</b></span></div>\n<div class='
 x1e56ztr'><span class='x193iq5w xeuugli x13faqbe x1vvkbs x1xmvt09 x1f6kntn
  xvq8zen xo1l8bm xzsf02u'>(5506 South 2300 West)</span></div>\n<div class=
 'x1e56ztr'><span class='x193iq5w xeuugli x13faqbe x1vvkbs x1xmvt09 x1f6knt
 n xvq8zen xo1l8bm xzsf02u'>Abrazos in abundance</span></div>\n<div class='
 x1e56ztr'><span class='x193iq5w xeuugli x13faqbe x1vvkbs x1xmvt09 x1f6kntn
  xvq8zen xo1l8bm xzsf02u'>Singing</span></div>\n<div class='x1e56ztr'><spa
 n class='x193iq5w xeuugli x13faqbe x1vvkbs x1xmvt09 x1f6kntn xvq8zen xo1l8
 bm xzsf02u'>Devotion followed by Holy Communion</span></div>\n<div class='
 x1e56ztr'><span class='x193iq5w xeuugli x13faqbe x1vvkbs x1xmvt09 x1f6kntn
  xvq8zen xo1l8bm xzsf02u'>Community update plus question-and-answer period
 </span></div>\n<div class='x1e56ztr'><span class='x193iq5w xeuugli x13faqb
 e x1vvkbs x1xmvt09 x1f6kntn xvq8zen xo1l8bm xzsf02u'>Fellowship and great 
 conversation</span></div>\n<div class='x1e56ztr'><span class='x193iq5w xeu
 ugli x13faqbe x1vvkbs x1xmvt09 x1f6kntn xvq8zen xo1l8bm xzsf02u'>Potluck M
 eal as a magnificent conclusion</span></div>\n<div class='x1e56ztr'><span 
 class='x193iq5w xeuugli x13faqbe x1vvkbs x1xmvt09 x1f6kntn xvq8zen xo1l8bm
  xzsf02u'>Bring your Name Tag\, a Friend & a Dish to Share</span></div>
DTSTART;TZID=America/Denver:20230820T140000
DTEND;TZID=America/Denver:20230820T160000
LOCATION:Our Saviors - Roy UT @ (5506 South 2300 West)
SEQUENCE:0
SUMMARY:Ultreya
URL:https://utahvdc.org/wpress/?ai1ec_event=ultreya-3
X-COST-TYPE:free
END:VEVENT
BEGIN:VEVENT
UID:ai1ec-410@utahvdc.org/wpress
DTSTAMP:20260423T124332Z
CATEGORIES:
CONTACT:
DESCRIPTION:<p>There will be a Secretariat meeting one hour prior to the Ul
 treyas starting.</p>\n<p>I encourage everyone to attend the meetings and e
 specially Ultreyas in person.  I believe it is important for the 4th Day c
 ommunity to see all of us there and that we are serious about Renewing the
  community.</p>
DTSTART;TZID=America/Denver:20230820T150000
DTEND;TZID=America/Denver:20230820T170000
LOCATION:Our Saviors @ Roy\, UT
SEQUENCE:0
SUMMARY:Ultreya
URL:https://utahvdc.org/wpress/?ai1ec_event=ultreya
X-COST-TYPE:free
END:VEVENT
BEGIN:VEVENT
UID:ai1ec-408@utahvdc.org/wpress
DTSTAMP:20260423T124332Z
CATEGORIES:
CONTACT:
DESCRIPTION:<p>Monthly Secretariat meeting</p>
DTSTART;TZID=America/Denver:20230921T190000
DTEND;TZID=America/Denver:20230921T210000
LOCATION:Good Shepherd Lutheran Church @ 8575 S 700 E Sandy\, Utah\, USA
SEQUENCE:0
SUMMARY:Secretariat meeting
URL:https://utahvdc.org/wpress/?ai1ec_event=secretariat-meeting
X-COST-TYPE:free
END:VEVENT
BEGIN:VEVENT
UID:ai1ec-411@utahvdc.org/wpress
DTSTAMP:20260423T124332Z
CATEGORIES:
CONTACT:
DESCRIPTION:<p>There will be a Secretariat meeting one hour prior to the Ul
 treyas starting.</p>\n<p>I encourage everyone to attend the meetings and e
 specially Ultreyas in person.  I believe it is important for the 4th Day c
 ommunity to see all of us there and that we are serious about Renewing the
  community.</p>
DTSTART;TZID=America/Denver:20231015T150000
DTEND;TZID=America/Denver:20231015T170000
SEQUENCE:0
SUMMARY:Ultreya
URL:https://utahvdc.org/wpress/?ai1ec_event=ultreya-2
X-COST-TYPE:free
END:VEVENT
BEGIN:VEVENT
UID:ai1ec-409@utahvdc.org/wpress
DTSTAMP:20260423T124332Z
CATEGORIES:
CONTACT:Bonnie Davis\; uvdc623@yahoo.com\; utahvdc.org
DESCRIPTION:
DTSTART;TZID=America/Denver:20231105T140000
DTEND;TZID=America/Denver:20231105T160000
LOCATION:Our Saviour's Lutheran Church @ 2500 East 3900 South Holladay
SEQUENCE:0
SUMMARY:Secretariat Meeting
URL:https://utahvdc.org/wpress/?ai1ec_event=secretariat-meeting-2
X-COST-TYPE:free
END:VEVENT
BEGIN:VEVENT
UID:ai1ec-452@utahvdc.org/wpress
DTSTAMP:20260423T124332Z
CATEGORIES:
CONTACT:
DESCRIPTION:
DTSTART;TZID=America/Denver:20231105T150000
DTEND;TZID=America/Denver:20231105T170000
LOCATION:Our Saviour's Lutheran Church @ 2500 East 3900 South Holladay
SEQUENCE:0
SUMMARY:Ultreya
URL:https://utahvdc.org/wpress/?ai1ec_event=ultreya-4
X-COST-TYPE:free
END:VEVENT
BEGIN:VEVENT
UID:ai1ec-521@utahvdc.org/wpress
DTSTAMP:20260423T124332Z
CATEGORIES:
CONTACT:Amy Christian
DESCRIPTION:
DTSTART;TZID=America/Denver:20251019T150000
DTEND;TZID=America/Denver:20251019T170000
LOCATION:Mountain of Faith @ Tooele
SEQUENCE:0
SUMMARY:October Ultreya
URL:https://utahvdc.org/wpress/?ai1ec_event=october-ultreya
X-COST-TYPE:free
END:VEVENT
BEGIN:VEVENT
UID:ai1ec-481@utahvdc.org/wpress
DTSTAMP:20260423T124332Z
CATEGORIES:
CONTACT:
DESCRIPTION:
DTSTART;TZID=America/Denver:20251019T150000
DTEND;TZID=America/Denver:20251019T180000
LOCATION:Good shepherd @ 8575 S 700 E Sandy\, UT 84070
SEQUENCE:0
SUMMARY:Via de Cristo Ultreya
URL:https://utahvdc.org/wpress/?ai1ec_event=via-de-cristo-ultreya
X-COST-TYPE:free
END:VEVENT
BEGIN:VEVENT
UID:ai1ec-518@utahvdc.org/wpress
DTSTAMP:20260423T124332Z
CATEGORIES:
CONTACT:Cathy Ricci
DESCRIPTION:
DTSTART;TZID=America/Denver:20260118T150000
DTEND;TZID=America/Denver:20260118T170000
LOCATION:Our Saviour's Holiday
SEQUENCE:0
SUMMARY:January Ultreys
URL:https://utahvdc.org/wpress/?ai1ec_event=518
X-COST-TYPE:free
END:VEVENT
BEGIN:VEVENT
UID:ai1ec-519@utahvdc.org/wpress
DTSTAMP:20260423T124332Z
CATEGORIES:
CONTACT:Cindy Day
DESCRIPTION:
DTSTART;TZID=America/Denver:20260412T150000
DTEND;TZID=America/Denver:20260412T170000
LOCATION:Ascension Lutheran Church @ North Ogden
SEQUENCE:0
SUMMARY:April Ultreya
URL:https://utahvdc.org/wpress/?ai1ec_event=april-ultreya
X-COST-TYPE:free
END:VEVENT
BEGIN:VEVENT
UID:ai1ec-520@utahvdc.org/wpress
DTSTAMP:20260423T124332Z
CATEGORIES:
CONTACT:Janet Tow
DESCRIPTION:
DTSTART;TZID=America/Denver:20260712T150000
DTEND;TZID=America/Denver:20260712T170000
LOCATION:Our Savior's @ Roy Utah
SEQUENCE:0
SUMMARY:July ultreya
URL:https://utahvdc.org/wpress/?ai1ec_event=july-ultreya
X-COST-TYPE:free
END:VEVENT
END:VCALENDAR
